BEGIN:VCALENDAR
VERSION:2.0
PRODID:-//Sickle Cell Foundation, Inc. - ECPv6.13.2.1//NONSGML v1.0//EN
CALSCALE:GREGORIAN
METHOD:PUBLISH
X-WR-CALNAME:Sickle Cell Foundation, Inc.
X-ORIGINAL-URL:https://sicklecellfoundation.org
X-WR-CALDESC:Events for Sickle Cell Foundation, Inc.
REFRESH-INTERVAL;VALUE=DURATION:PT1H
X-Robots-Tag:noindex
X-PUBLISHED-TTL:PT1H
BEGIN:VTIMEZONE
TZID:America/New_York
BEGIN:DAYLIGHT
TZOFFSETFROM:-0500
TZOFFSETTO:-0400
TZNAME:EDT
DTSTART:20250309T070000
END:DAYLIGHT
BEGIN:STANDARD
TZOFFSETFROM:-0400
TZOFFSETTO:-0500
TZNAME:EST
DTSTART:20251102T060000
END:STANDARD
END:VTIMEZONE
BEGIN:VEVENT
DTSTART;TZID=America/New_York:20251015T100000
DTEND;TZID=America/New_York:20251015T150000
DTSTAMP:20260423T193413
CREATED:20251001T185409Z
LAST-MODIFIED:20251001T185409Z
UID:7337-1760522400-1760540400@sicklecellfoundation.org
SUMMARY:FAMU Health & Beauty Expo
DESCRIPTION:FAMU Health & Beauty Expo \n1601 S. Martin Luther King Jr. Blvd. \nTallahassee\, FL 32307 \nTime: 10:00 a.m. – 3:00 p.m.
URL:https://sicklecellfoundation.org/event/famu-health-beauty-expo/
END:VEVENT
BEGIN:VEVENT
DTSTART;TZID=America/New_York:20251018T100000
DTEND;TZID=America/New_York:20251018T130000
DTSTAMP:20260423T193413
CREATED:20251001T185452Z
LAST-MODIFIED:20251001T185452Z
UID:7339-1760781600-1760792400@sicklecellfoundation.org
SUMMARY:FSU Health Expo  Wakulla Community Center
DESCRIPTION:FSU Health Expo \nWakulla Community Center \nCrawfordville Room & Gymnasium \n318 Shadeville Rd. \nTime: 10:00 a.m. – 1:00 p.m.
URL:https://sicklecellfoundation.org/event/fsu-health-expo-wakulla-community-center/
END:VEVENT
END:VCALENDAR