BEGIN:VCALENDAR
VERSION:2.0
PRODID:-//Sickle Cell Foundation, Inc. - ECPv6.13.2.1//NONSGML v1.0//EN
CALSCALE:GREGORIAN
METHOD:PUBLISH
X-ORIGINAL-URL:https://sicklecellfoundation.org
X-WR-CALDESC:Events for Sickle Cell Foundation, Inc.
REFRESH-INTERVAL;VALUE=DURATION:PT1H
X-Robots-Tag:noindex
X-PUBLISHED-TTL:PT1H
BEGIN:VTIMEZONE
TZID:America/New_York
BEGIN:DAYLIGHT
TZOFFSETFROM:-0500
TZOFFSETTO:-0400
TZNAME:EDT
DTSTART:20250309T070000
END:DAYLIGHT
BEGIN:STANDARD
TZOFFSETFROM:-0400
TZOFFSETTO:-0500
TZNAME:EST
DTSTART:20251102T060000
END:STANDARD
END:VTIMEZONE
BEGIN:VEVENT
DTSTART;TZID=America/New_York:20250802T100000
DTEND;TZID=America/New_York:20250802T130000
DTSTAMP:20260423T220554
CREATED:20250715T011116Z
LAST-MODIFIED:20250715T011116Z
UID:7115-1754128800-1754139600@sicklecellfoundation.org
SUMMARY:Community Back To School Event
DESCRIPTION:
URL:https://sicklecellfoundation.org/event/community-back-to-school-event/
LOCATION:Jefferson Arms Apartment\, 1425 E. Clark Ave.\, Monticello\, FL\, 32344\, United States
END:VEVENT
BEGIN:VEVENT
DTSTART;TZID=America/New_York:20250802T100000
DTEND;TZID=America/New_York:20250802T130000
DTSTAMP:20260423T220554
CREATED:20250715T011459Z
LAST-MODIFIED:20250715T011459Z
UID:7118-1754128800-1754139600@sicklecellfoundation.org
SUMMARY:Stuff The Bus School Drive
DESCRIPTION:
URL:https://sicklecellfoundation.org/event/stuff-the-bus-school-drive/
LOCATION:Winn Dixie Parking Lot\, 1245 S. Jefferson St.\, Monticello\, FL\, 32344\, United States
END:VEVENT
BEGIN:VEVENT
DTSTART;TZID=America/New_York:20250804T100000
DTEND;TZID=America/New_York:20250804T130000
DTSTAMP:20260423T220554
CREATED:20250715T011924Z
LAST-MODIFIED:20250715T011924Z
UID:7121-1754301600-1754312400@sicklecellfoundation.org
SUMMARY:Community Back To School Event
DESCRIPTION:
URL:https://sicklecellfoundation.org/event/community-back-to-school-event-2/
LOCATION:Sumpter James Jr. Park\, SW Third Ave.\, Madison\, FL\, 32340\, United States
END:VEVENT
BEGIN:VEVENT
DTSTART;TZID=America/New_York:20250807T173000
DTEND;TZID=America/New_York:20250807T183000
DTSTAMP:20260423T220554
CREATED:20250715T012106Z
LAST-MODIFIED:20250715T012106Z
UID:7124-1754587800-1754591400@sicklecellfoundation.org
SUMMARY:Vertex Gene Therapy Educational Overview
DESCRIPTION:
URL:https://sicklecellfoundation.org/event/vertex-gene-therapy-educational-overview/
LOCATION:Gadsden County Public Library\, 732 S. Pat Thomas Parkway\, Quincy\, FL\, 32351\, United States
END:VEVENT
BEGIN:VEVENT
DTSTART;TZID=America/New_York:20250809T100000
DTEND;TZID=America/New_York:20250809T120000
DTSTAMP:20260423T220554
CREATED:20250715T012934Z
LAST-MODIFIED:20250715T012934Z
UID:7126-1754733600-1754740800@sicklecellfoundation.org
SUMMARY:FAMU DRS Back To School (Gymnasium)
DESCRIPTION:
URL:https://sicklecellfoundation.org/event/famu-drs-back-to-school-gymnasium/
LOCATION:FAMU DRS\, 400 W. Orange Avenue\, Tallahassee\, FL\, 32307\, United States
END:VEVENT
BEGIN:VEVENT
DTSTART;TZID=America/New_York:20250809T100000
DTEND;TZID=America/New_York:20250809T130000
DTSTAMP:20260423T220554
CREATED:20250715T013056Z
LAST-MODIFIED:20250715T013056Z
UID:7129-1754733600-1754744400@sicklecellfoundation.org
SUMMARY:Jefferson K-12 Schools
DESCRIPTION:
URL:https://sicklecellfoundation.org/event/jefferson-k-12-schools/
LOCATION:50 David Road Monticello\, Fl 32344
END:VEVENT
END:VCALENDAR