BEGIN:VCALENDAR
VERSION:2.0
PRODID:-//Sickle Cell Foundation, Inc. - ECPv6.13.2.1//NONSGML v1.0//EN
CALSCALE:GREGORIAN
METHOD:PUBLISH
X-WR-CALNAME:Sickle Cell Foundation, Inc.
X-ORIGINAL-URL:https://sicklecellfoundation.org
X-WR-CALDESC:Events for Sickle Cell Foundation, Inc.
REFRESH-INTERVAL;VALUE=DURATION:PT1H
X-Robots-Tag:noindex
X-PUBLISHED-TTL:PT1H
BEGIN:VTIMEZONE
TZID:America/New_York
BEGIN:DAYLIGHT
TZOFFSETFROM:-0500
TZOFFSETTO:-0400
TZNAME:EDT
DTSTART:20250309T070000
END:DAYLIGHT
BEGIN:STANDARD
TZOFFSETFROM:-0400
TZOFFSETTO:-0500
TZNAME:EST
DTSTART:20251102T060000
END:STANDARD
END:VTIMEZONE
BEGIN:VEVENT
DTSTART;VALUE=DATE:20250405
DTEND;VALUE=DATE:20250406
DTSTAMP:20260424T024229
CREATED:20250107T002312Z
LAST-MODIFIED:20250306T232533Z
UID:6785-1743811200-1743897599@sicklecellfoundation.org
SUMMARY:2025 SCF Sickle Cell Disease Conference: A Call to Action\, From Policy to Implementation
DESCRIPTION:  \n2025 Conference Event Sponsors: \n 
URL:https://sicklecellfoundation.org/event/2025-scf-sickle-cell-disease-conference-a-call-to-action-from-policy-to-implementation/
LOCATION:2003 Apalachee Pkwy\, Tallahassee\, FL 32301
END:VEVENT
END:VCALENDAR