BEGIN:VCALENDAR
VERSION:2.0
PRODID:-//Sickle Cell Foundation, Inc. - ECPv6.13.2.1//NONSGML v1.0//EN
CALSCALE:GREGORIAN
METHOD:PUBLISH
X-WR-CALNAME:Sickle Cell Foundation, Inc.
X-ORIGINAL-URL:https://sicklecellfoundation.org
X-WR-CALDESC:Events for Sickle Cell Foundation, Inc.
REFRESH-INTERVAL;VALUE=DURATION:PT1H
X-Robots-Tag:noindex
X-PUBLISHED-TTL:PT1H
BEGIN:VTIMEZONE
TZID:America/New_York
BEGIN:DAYLIGHT
TZOFFSETFROM:-0500
TZOFFSETTO:-0400
TZNAME:EDT
DTSTART:20240310T070000
END:DAYLIGHT
BEGIN:STANDARD
TZOFFSETFROM:-0400
TZOFFSETTO:-0500
TZNAME:EST
DTSTART:20241103T060000
END:STANDARD
END:VTIMEZONE
BEGIN:VEVENT
DTSTART;TZID=America/New_York:20240405T160000
DTEND;TZID=America/New_York:20240405T180000
DTSTAMP:20260424T180018
CREATED:20240405T001511Z
LAST-MODIFIED:20240405T001511Z
UID:5946-1712332800-1712340000@sicklecellfoundation.org
SUMMARY:April 7th - FAMU BLOOD DRIVE
DESCRIPTION:
URL:https://sicklecellfoundation.org/event/april-7th-famu-blood-drive/
LOCATION:FAMU
END:VEVENT
BEGIN:VEVENT
DTSTART;TZID=America/New_York:20240406T100000
DTEND;TZID=America/New_York:20240406T140000
DTSTAMP:20260424T180018
CREATED:20240405T001634Z
LAST-MODIFIED:20240405T001634Z
UID:5950-1712397600-1712412000@sicklecellfoundation.org
SUMMARY:April 6th - Madison County
DESCRIPTION:
URL:https://sicklecellfoundation.org/event/april-6th-madison-county/
LOCATION:Madison County
END:VEVENT
BEGIN:VEVENT
DTSTART;TZID=America/New_York:20240406T113000
DTEND;TZID=America/New_York:20240406T160000
DTSTAMP:20260424T180018
CREATED:20240405T001759Z
LAST-MODIFIED:20240405T001759Z
UID:5953-1712403000-1712419200@sicklecellfoundation.org
SUMMARY:April 6th - FSU Tallahassee\, Florida
DESCRIPTION:
URL:https://sicklecellfoundation.org/event/april-6th-fsu-tallahassee-florida/
END:VEVENT
BEGIN:VEVENT
DTSTART;TZID=America/New_York:20240412T120000
DTEND;TZID=America/New_York:20240412T150000
DTSTAMP:20260424T180018
CREATED:20240405T001922Z
LAST-MODIFIED:20240405T001922Z
UID:5956-1712923200-1712934000@sicklecellfoundation.org
SUMMARY:April 12th FAMU Relay For Life
DESCRIPTION:
URL:https://sicklecellfoundation.org/event/april-12th-famu-relay-for-life/
LOCATION:FAMU
END:VEVENT
BEGIN:VEVENT
DTSTART;TZID=America/New_York:20240413T100000
DTEND;TZID=America/New_York:20240413T130000
DTSTAMP:20260424T180018
CREATED:20240405T002042Z
LAST-MODIFIED:20240405T002042Z
UID:5958-1713002400-1713013200@sicklecellfoundation.org
SUMMARY:April 13th - Big Bend AHEC Minority Health Event
DESCRIPTION:
URL:https://sicklecellfoundation.org/event/april-13th-big-bend-ahec-minority-health-event/
END:VEVENT
BEGIN:VEVENT
DTSTART;TZID=America/New_York:20240420T083000
DTEND;TZID=America/New_York:20240420T140000
DTSTAMP:20260424T180018
CREATED:20240405T002141Z
LAST-MODIFIED:20240405T002141Z
UID:5961-1713601800-1713621600@sicklecellfoundation.org
SUMMARY:April 20th - Gadsden County Health Event
DESCRIPTION:
URL:https://sicklecellfoundation.org/event/april-20th-gadsden-county-health-event/
END:VEVENT
BEGIN:VEVENT
DTSTART;TZID=America/New_York:20240420T090000
DTEND;TZID=America/New_York:20240420T130000
DTSTAMP:20260424T180018
CREATED:20240405T002323Z
LAST-MODIFIED:20240405T002323Z
UID:5963-1713603600-1713618000@sicklecellfoundation.org
SUMMARY:April 20th - Jack McClean Community Event
DESCRIPTION:
URL:https://sicklecellfoundation.org/event/april-20th-jack-mcclean-community-event/
LOCATION:Jack McLean Community Center\, 700 Paul Russell Road\, Tallahassee\, FL\, 32301\, United States
END:VEVENT
BEGIN:VEVENT
DTSTART;TZID=America/New_York:20240427T090000
DTEND;TZID=America/New_York:20240427T180000
DTSTAMP:20260424T180018
CREATED:20240125T194142Z
LAST-MODIFIED:20240405T000359Z
UID:5875-1714208400-1714240800@sicklecellfoundation.org
SUMMARY:The Sickle Cell Disease Educational Conference "Back To The Basics"
DESCRIPTION:  \n  \n 
URL:https://sicklecellfoundation.org/event/the-sickle-cell-disease-educational-conference-back-to-the-basics/
LOCATION:415 North Monroe Street\, Tallahassee\, FL\, US\, 415 North Monroe Street\, Tallahassee\, Florida\, 32303
END:VEVENT
END:VCALENDAR