BEGIN:VCALENDAR
VERSION:2.0
PRODID:-//Sickle Cell Foundation, Inc. - ECPv6.13.2.1//NONSGML v1.0//EN
CALSCALE:GREGORIAN
METHOD:PUBLISH
X-WR-CALNAME:Sickle Cell Foundation, Inc.
X-ORIGINAL-URL:https://sicklecellfoundation.org
X-WR-CALDESC:Events for Sickle Cell Foundation, Inc.
REFRESH-INTERVAL;VALUE=DURATION:PT1H
X-Robots-Tag:noindex
X-PUBLISHED-TTL:PT1H
BEGIN:VTIMEZONE
TZID:America/New_York
BEGIN:DAYLIGHT
TZOFFSETFROM:-0500
TZOFFSETTO:-0400
TZNAME:EDT
DTSTART:20250309T070000
END:DAYLIGHT
BEGIN:STANDARD
TZOFFSETFROM:-0400
TZOFFSETTO:-0500
TZNAME:EST
DTSTART:20251102T060000
END:STANDARD
BEGIN:DAYLIGHT
TZOFFSETFROM:-0500
TZOFFSETTO:-0400
TZNAME:EDT
DTSTART:20260308T070000
END:DAYLIGHT
BEGIN:STANDARD
TZOFFSETFROM:-0400
TZOFFSETTO:-0500
TZNAME:EST
DTSTART:20261101T060000
END:STANDARD
END:VTIMEZONE
BEGIN:VEVENT
DTSTART;TZID=America/New_York:20250902T170000
DTEND;TZID=America/New_York:20250902T200000
DTSTAMP:20260425T124314
CREATED:20250715T013213Z
LAST-MODIFIED:20250715T013213Z
UID:7132-1756832400-1756843200@sicklecellfoundation.org
SUMMARY:Culver's Share Night
DESCRIPTION:Purpose: \nTo provide current information on the treatment of and care of patients with Sickle Cell Disease.\nCourse Objectives\nAt the end of the workshop\, each participant will be able to:\n\n1. Discuss\, analyze\, and demonstrate methodology used in research\, education and delivery of care to the sickle cell population\n\n2. Examine organizational provision of education\nand service on Sickle Cell Disease\n\n3. Analyze efforts of service to patients with\nsickle cell disease\, in the church and school\n\n4. Discuss one method of health coverage of\npatients with Sickle Cell Disease								\n				\n				\n				\n					Register
URL:https://sicklecellfoundation.org/event/culvers-share-night/
LOCATION:Culvers\, 2439 N. Monroe Street\, Tallahassee\, FL\, 32304\, United States
END:VEVENT
BEGIN:VEVENT
DTSTART;TZID=America/New_York:20250913T080000
DTEND;TZID=America/New_York:20250913T100000
DTSTAMP:20260425T124314
CREATED:20250715T013501Z
LAST-MODIFIED:20250918T194944Z
UID:7135-1757750400-1757757600@sicklecellfoundation.org
SUMMARY:44th Annual GWTC 5K for Sickle Cell Anemia & Tim Simpkins 1 Mile
DESCRIPTION:Purpose: \nTo provide current information on the treatment of and care of patients with Sickle Cell Disease.\nCourse Objectives\nAt the end of the workshop\, each participant will be able to:\n\n1. Discuss\, analyze\, and demonstrate methodology used in research\, education and delivery of care to the sickle cell population\n\n2. Examine organizational provision of education\nand service on Sickle Cell Disease\n\n3. Analyze efforts of service to patients with\nsickle cell disease\, in the church and school\n\n4. Discuss one method of health coverage of\npatients with Sickle Cell Disease								\n				\n				\n				\n					Register
URL:https://sicklecellfoundation.org/event/gwtc-5k-for-sickle-cell-anemia-tim-simpkins-1-mile/
LOCATION:Jake Gaither Recreation Center and Golf Course\, 801 Tanner Drive\, Tallahassee\, FL\, 32305\, United States
END:VEVENT
BEGIN:VEVENT
DTSTART;TZID=America/New_York:20251015T100000
DTEND;TZID=America/New_York:20251015T150000
DTSTAMP:20260425T124314
CREATED:20251001T185409Z
LAST-MODIFIED:20251001T185409Z
UID:7337-1760522400-1760540400@sicklecellfoundation.org
SUMMARY:FAMU Health & Beauty Expo
DESCRIPTION:Purpose: \nTo provide current information on the treatment of and care of patients with Sickle Cell Disease.\nCourse Objectives\nAt the end of the workshop\, each participant will be able to:\n\n1. Discuss\, analyze\, and demonstrate methodology used in research\, education and delivery of care to the sickle cell population\n\n2. Examine organizational provision of education\nand service on Sickle Cell Disease\n\n3. Analyze efforts of service to patients with\nsickle cell disease\, in the church and school\n\n4. Discuss one method of health coverage of\npatients with Sickle Cell Disease								\n				\n				\n				\n					Register
URL:https://sicklecellfoundation.org/event/famu-health-beauty-expo/
LOCATION:FL
END:VEVENT
BEGIN:VEVENT
DTSTART;TZID=America/New_York:20251018T100000
DTEND;TZID=America/New_York:20251018T130000
DTSTAMP:20260425T124314
CREATED:20251001T185452Z
LAST-MODIFIED:20251001T185452Z
UID:7339-1760781600-1760792400@sicklecellfoundation.org
SUMMARY:FSU Health Expo  Wakulla Community Center
DESCRIPTION:Purpose: \nTo provide current information on the treatment of and care of patients with Sickle Cell Disease.\nCourse Objectives\nAt the end of the workshop\, each participant will be able to:\n\n1. Discuss\, analyze\, and demonstrate methodology used in research\, education and delivery of care to the sickle cell population\n\n2. Examine organizational provision of education\nand service on Sickle Cell Disease\n\n3. Analyze efforts of service to patients with\nsickle cell disease\, in the church and school\n\n4. Discuss one method of health coverage of\npatients with Sickle Cell Disease								\n				\n				\n				\n					Register
URL:https://sicklecellfoundation.org/event/fsu-health-expo-wakulla-community-center/
LOCATION:FL
END:VEVENT
BEGIN:VEVENT
DTSTART;VALUE=DATE:20251202
DTEND;VALUE=DATE:20251203
DTSTAMP:20260425T124314
CREATED:20251105T204204Z
LAST-MODIFIED:20251105T204204Z
UID:7358-1764633600-1764719999@sicklecellfoundation.org
SUMMARY:Giving Tuesday - December 2nd 2025
DESCRIPTION:Purpose: \nTo provide current information on the treatment of and care of patients with Sickle Cell Disease.\nCourse Objectives\nAt the end of the workshop\, each participant will be able to:\n\n1. Discuss\, analyze\, and demonstrate methodology used in research\, education and delivery of care to the sickle cell population\n\n2. Examine organizational provision of education\nand service on Sickle Cell Disease\n\n3. Analyze efforts of service to patients with\nsickle cell disease\, in the church and school\n\n4. Discuss one method of health coverage of\npatients with Sickle Cell Disease								\n				\n				\n				\n					Register
URL:https://sicklecellfoundation.org/event/giving-tuesday-december-2nd-2025/
LOCATION:FL
END:VEVENT
BEGIN:VEVENT
DTSTART;TZID=America/New_York:20251214T160000
DTEND;TZID=America/New_York:20251214T170000
DTSTAMP:20260425T124314
CREATED:20251211T162744Z
LAST-MODIFIED:20251211T162744Z
UID:7405-1765728000-1765731600@sicklecellfoundation.org
SUMMARY:December 14th Sickle-A-Bration
DESCRIPTION:Purpose: \nTo provide current information on the treatment of and care of patients with Sickle Cell Disease.\nCourse Objectives\nAt the end of the workshop\, each participant will be able to:\n\n1. Discuss\, analyze\, and demonstrate methodology used in research\, education and delivery of care to the sickle cell population\n\n2. Examine organizational provision of education\nand service on Sickle Cell Disease\n\n3. Analyze efforts of service to patients with\nsickle cell disease\, in the church and school\n\n4. Discuss one method of health coverage of\npatients with Sickle Cell Disease								\n				\n				\n				\n					Register
URL:https://sicklecellfoundation.org/event/december-14th-sickle-a-bration/
LOCATION:FL
END:VEVENT
BEGIN:VEVENT
DTSTART;TZID=America/New_York:20260310T130000
DTEND;TZID=America/New_York:20260310T150000
DTSTAMP:20260425T124314
CREATED:20260406T173901Z
LAST-MODIFIED:20260406T173901Z
UID:7534-1773147600-1773154800@sicklecellfoundation.org
SUMMARY:Health Fair Presentation
DESCRIPTION:Purpose: \nTo provide current information on the treatment of and care of patients with Sickle Cell Disease.\nCourse Objectives\nAt the end of the workshop\, each participant will be able to:\n\n1. Discuss\, analyze\, and demonstrate methodology used in research\, education and delivery of care to the sickle cell population\n\n2. Examine organizational provision of education\nand service on Sickle Cell Disease\n\n3. Analyze efforts of service to patients with\nsickle cell disease\, in the church and school\n\n4. Discuss one method of health coverage of\npatients with Sickle Cell Disease								\n				\n				\n				\n					Register
URL:https://sicklecellfoundation.org/event/health-fair-presentation-2/
LOCATION:FL
END:VEVENT
BEGIN:VEVENT
DTSTART;TZID=America/New_York:20260311T110000
DTEND;TZID=America/New_York:20260311T130000
DTSTAMP:20260425T124314
CREATED:20260406T173433Z
LAST-MODIFIED:20260406T173714Z
UID:7532-1773226800-1773234000@sicklecellfoundation.org
SUMMARY:Health Fair Presentation
DESCRIPTION:Purpose: \nTo provide current information on the treatment of and care of patients with Sickle Cell Disease.\nCourse Objectives\nAt the end of the workshop\, each participant will be able to:\n\n1. Discuss\, analyze\, and demonstrate methodology used in research\, education and delivery of care to the sickle cell population\n\n2. Examine organizational provision of education\nand service on Sickle Cell Disease\n\n3. Analyze efforts of service to patients with\nsickle cell disease\, in the church and school\n\n4. Discuss one method of health coverage of\npatients with Sickle Cell Disease								\n				\n				\n				\n					Register
URL:https://sicklecellfoundation.org/event/health-fair-presentation/
LOCATION:FL
END:VEVENT
BEGIN:VEVENT
DTSTART;TZID=America/New_York:20260317T180000
DTEND;TZID=America/New_York:20260317T190000
DTSTAMP:20260425T124314
CREATED:20260406T174150Z
LAST-MODIFIED:20260406T175031Z
UID:7538-1773770400-1773774000@sicklecellfoundation.org
SUMMARY:Health Fair Presentation
DESCRIPTION:Purpose: \nTo provide current information on the treatment of and care of patients with Sickle Cell Disease.\nCourse Objectives\nAt the end of the workshop\, each participant will be able to:\n\n1. Discuss\, analyze\, and demonstrate methodology used in research\, education and delivery of care to the sickle cell population\n\n2. Examine organizational provision of education\nand service on Sickle Cell Disease\n\n3. Analyze efforts of service to patients with\nsickle cell disease\, in the church and school\n\n4. Discuss one method of health coverage of\npatients with Sickle Cell Disease								\n				\n				\n				\n					Register
URL:https://sicklecellfoundation.org/event/health-fair-presentation-4/
LOCATION:FL
END:VEVENT
BEGIN:VEVENT
DTSTART;TZID=America/New_York:20260411T100000
DTEND;TZID=America/New_York:20260411T140000
DTSTAMP:20260425T124314
CREATED:20260406T175203Z
LAST-MODIFIED:20260406T180121Z
UID:7544-1775901600-1775916000@sicklecellfoundation.org
SUMMARY:Good News Outreach Fair
DESCRIPTION:Purpose: \nTo provide current information on the treatment of and care of patients with Sickle Cell Disease.\nCourse Objectives\nAt the end of the workshop\, each participant will be able to:\n\n1. Discuss\, analyze\, and demonstrate methodology used in research\, education and delivery of care to the sickle cell population\n\n2. Examine organizational provision of education\nand service on Sickle Cell Disease\n\n3. Analyze efforts of service to patients with\nsickle cell disease\, in the church and school\n\n4. Discuss one method of health coverage of\npatients with Sickle Cell Disease								\n				\n				\n				\n					Register
URL:https://sicklecellfoundation.org/event/good-news-outreach-fair/
LOCATION:FL
END:VEVENT
BEGIN:VEVENT
DTSTART;TZID=America/New_York:20260416T090000
DTEND;TZID=America/New_York:20260416T160000
DTSTAMP:20260425T124314
CREATED:20260406T170415Z
LAST-MODIFIED:20260413T220915Z
UID:7529-1776330000-1776355200@sicklecellfoundation.org
SUMMARY:2026 SCF Conference "Caring Beyond The Condition"
DESCRIPTION:Purpose: \nTo provide current information on the treatment of and care of patients with Sickle Cell Disease.\nCourse Objectives\nAt the end of the workshop\, each participant will be able to:\n\n1. Discuss\, analyze\, and demonstrate methodology used in research\, education and delivery of care to the sickle cell population\n\n2. Examine organizational provision of education\nand service on Sickle Cell Disease\n\n3. Analyze efforts of service to patients with\nsickle cell disease\, in the church and school\n\n4. Discuss one method of health coverage of\npatients with Sickle Cell Disease								\n				\n				\n				\n					Register
URL:https://sicklecellfoundation.org/event/2026-scf-conference-caring-beyond-the-condition/
LOCATION:FL
END:VEVENT
BEGIN:VEVENT
DTSTART;VALUE=DATE:20260419
DTEND;VALUE=DATE:20260420
DTSTAMP:20260425T124314
CREATED:20260406T174429Z
LAST-MODIFIED:20260406T174429Z
UID:7542-1776556800-1776643199@sicklecellfoundation.org
SUMMARY:Health Fair Presentation
DESCRIPTION:Purpose: \nTo provide current information on the treatment of and care of patients with Sickle Cell Disease.\nCourse Objectives\nAt the end of the workshop\, each participant will be able to:\n\n1. Discuss\, analyze\, and demonstrate methodology used in research\, education and delivery of care to the sickle cell population\n\n2. Examine organizational provision of education\nand service on Sickle Cell Disease\n\n3. Analyze efforts of service to patients with\nsickle cell disease\, in the church and school\n\n4. Discuss one method of health coverage of\npatients with Sickle Cell Disease								\n				\n				\n				\n					Register
URL:https://sicklecellfoundation.org/event/health-fair-presentation-6/
LOCATION:FL
END:VEVENT
BEGIN:VEVENT
DTSTART;TZID=America/New_York:20260424T093000
DTEND;TZID=America/New_York:20260424T123000
DTSTAMP:20260425T124314
CREATED:20260406T174259Z
LAST-MODIFIED:20260406T174259Z
UID:7540-1777023000-1777033800@sicklecellfoundation.org
SUMMARY:Health Fair Presentation
DESCRIPTION:Purpose: \nTo provide current information on the treatment of and care of patients with Sickle Cell Disease.\nCourse Objectives\nAt the end of the workshop\, each participant will be able to:\n\n1. Discuss\, analyze\, and demonstrate methodology used in research\, education and delivery of care to the sickle cell population\n\n2. Examine organizational provision of education\nand service on Sickle Cell Disease\n\n3. Analyze efforts of service to patients with\nsickle cell disease\, in the church and school\n\n4. Discuss one method of health coverage of\npatients with Sickle Cell Disease								\n				\n				\n				\n					Register
URL:https://sicklecellfoundation.org/event/health-fair-presentation-5/
LOCATION:FL
END:VEVENT
BEGIN:VEVENT
DTSTART;TZID=America/New_York:20260520T130000
DTEND;TZID=America/New_York:20260520T170000
DTSTAMP:20260425T124314
CREATED:20260406T174028Z
LAST-MODIFIED:20260406T174028Z
UID:7536-1779282000-1779296400@sicklecellfoundation.org
SUMMARY:Health Fair Presentation
DESCRIPTION:Purpose: \nTo provide current information on the treatment of and care of patients with Sickle Cell Disease.\nCourse Objectives\nAt the end of the workshop\, each participant will be able to:\n\n1. Discuss\, analyze\, and demonstrate methodology used in research\, education and delivery of care to the sickle cell population\n\n2. Examine organizational provision of education\nand service on Sickle Cell Disease\n\n3. Analyze efforts of service to patients with\nsickle cell disease\, in the church and school\n\n4. Discuss one method of health coverage of\npatients with Sickle Cell Disease								\n				\n				\n				\n					Register
URL:https://sicklecellfoundation.org/event/health-fair-presentation-3/
LOCATION:FL
END:VEVENT
BEGIN:VEVENT
DTSTART;TZID=America/New_York:20260520T173000
DTEND;TZID=America/New_York:20260520T193000
DTSTAMP:20260425T124314
CREATED:20260421T195830Z
LAST-MODIFIED:20260421T195830Z
UID:7572-1779298200-1779305400@sicklecellfoundation.org
SUMMARY:Vertex Gene Therapy for Sickle Cell Disease
DESCRIPTION:Purpose: \nTo provide current information on the treatment of and care of patients with Sickle Cell Disease.\nCourse Objectives\nAt the end of the workshop\, each participant will be able to:\n\n1. Discuss\, analyze\, and demonstrate methodology used in research\, education and delivery of care to the sickle cell population\n\n2. Examine organizational provision of education\nand service on Sickle Cell Disease\n\n3. Analyze efforts of service to patients with\nsickle cell disease\, in the church and school\n\n4. Discuss one method of health coverage of\npatients with Sickle Cell Disease								\n				\n				\n				\n					Register
URL:https://sicklecellfoundation.org/event/vertex-gene-therapy-for-sickle-cell-disease/
LOCATION:FL
END:VEVENT
BEGIN:VEVENT
DTSTART;TZID=America/New_York:20260607T180000
DTEND;TZID=America/New_York:20260607T200000
DTSTAMP:20260425T124314
CREATED:20260421T192100Z
LAST-MODIFIED:20260421T194056Z
UID:7561-1780855200-1780862400@sicklecellfoundation.org
SUMMARY:June 7th Sickle Cell Bowling Fundraiser
DESCRIPTION:Purpose: \nTo provide current information on the treatment of and care of patients with Sickle Cell Disease.\nCourse Objectives\nAt the end of the workshop\, each participant will be able to:\n\n1. Discuss\, analyze\, and demonstrate methodology used in research\, education and delivery of care to the sickle cell population\n\n2. Examine organizational provision of education\nand service on Sickle Cell Disease\n\n3. Analyze efforts of service to patients with\nsickle cell disease\, in the church and school\n\n4. Discuss one method of health coverage of\npatients with Sickle Cell Disease								\n				\n				\n				\n					Register
URL:https://sicklecellfoundation.org/event/june-7th-sickle-cell-bowling-fundraiser/
LOCATION:FL
END:VEVENT
END:VCALENDAR