BEGIN:VCALENDAR
VERSION:2.0
PRODID:-//Sickle Cell Foundation, Inc. - ECPv6.13.2.1//NONSGML v1.0//EN
CALSCALE:GREGORIAN
METHOD:PUBLISH
X-WR-CALNAME:Sickle Cell Foundation, Inc.
X-ORIGINAL-URL:https://sicklecellfoundation.org
X-WR-CALDESC:Events for Sickle Cell Foundation, Inc.
REFRESH-INTERVAL;VALUE=DURATION:PT1H
X-Robots-Tag:noindex
X-PUBLISHED-TTL:PT1H
BEGIN:VTIMEZONE
TZID:America/New_York
BEGIN:DAYLIGHT
TZOFFSETFROM:-0500
TZOFFSETTO:-0400
TZNAME:EDT
DTSTART:20180311T070000
END:DAYLIGHT
BEGIN:STANDARD
TZOFFSETFROM:-0400
TZOFFSETTO:-0500
TZNAME:EST
DTSTART:20181104T060000
END:STANDARD
BEGIN:DAYLIGHT
TZOFFSETFROM:-0500
TZOFFSETTO:-0400
TZNAME:EDT
DTSTART:20190310T070000
END:DAYLIGHT
BEGIN:STANDARD
TZOFFSETFROM:-0400
TZOFFSETTO:-0500
TZNAME:EST
DTSTART:20191103T060000
END:STANDARD
BEGIN:DAYLIGHT
TZOFFSETFROM:-0500
TZOFFSETTO:-0400
TZNAME:EDT
DTSTART:20200308T070000
END:DAYLIGHT
BEGIN:STANDARD
TZOFFSETFROM:-0400
TZOFFSETTO:-0500
TZNAME:EST
DTSTART:20201101T060000
END:STANDARD
BEGIN:DAYLIGHT
TZOFFSETFROM:-0500
TZOFFSETTO:-0400
TZNAME:EDT
DTSTART:20210314T070000
END:DAYLIGHT
BEGIN:STANDARD
TZOFFSETFROM:-0400
TZOFFSETTO:-0500
TZNAME:EST
DTSTART:20211107T060000
END:STANDARD
BEGIN:DAYLIGHT
TZOFFSETFROM:-0500
TZOFFSETTO:-0400
TZNAME:EDT
DTSTART:20220313T070000
END:DAYLIGHT
BEGIN:STANDARD
TZOFFSETFROM:-0400
TZOFFSETTO:-0500
TZNAME:EST
DTSTART:20221106T060000
END:STANDARD
BEGIN:DAYLIGHT
TZOFFSETFROM:-0500
TZOFFSETTO:-0400
TZNAME:EDT
DTSTART:20230312T070000
END:DAYLIGHT
BEGIN:STANDARD
TZOFFSETFROM:-0400
TZOFFSETTO:-0500
TZNAME:EST
DTSTART:20231105T060000
END:STANDARD
BEGIN:DAYLIGHT
TZOFFSETFROM:-0500
TZOFFSETTO:-0400
TZNAME:EDT
DTSTART:20240310T070000
END:DAYLIGHT
BEGIN:STANDARD
TZOFFSETFROM:-0400
TZOFFSETTO:-0500
TZNAME:EST
DTSTART:20241103T060000
END:STANDARD
END:VTIMEZONE
BEGIN:VEVENT
DTSTART;TZID=America/New_York:20240914T080000
DTEND;TZID=America/New_York:20240914T100000
DTSTAMP:20260423T193819
CREATED:20240903T003312Z
LAST-MODIFIED:20250106T012841Z
UID:6314-1726300800-1726308000@sicklecellfoundation.org
SUMMARY:2024 Annual 5k for Sickle Cell Anemia and Tim Simpkin's One Mile Run/Walk
DESCRIPTION:  \nParticipate in the Gulf Winds Track Club’s collaboration with the Sickle Cell Foundation\, Inc. \nREGISTRATION NOW OPEN!!! \nThe Tim Simpkins 1 Mile and the 43rd annual 5k for Sickle Cell Anemia. \nParticipants have an excellent opportunity to run personal bests on the quick course through Jake Gaither Neighborhood. This race has a large and enthusiastic volunteer base. \nTo assist families affected by sickle cell disease\, the race’s proceeds are donated to the Sickle Cell Foundation\, Inc. \nTo take part in this event\, please sign up. If you cannot participate\, you can still donate to support other families in the sickle cell community. \n  \nSchedule · Saturday\, September 14\, 2024 (in EDT) \n  \n7:00 AM\nRegistration and race-day packet pick-up\n8:00 AM\nOne-mile fun run\n8:30 AM\n5K race\n9:30 AM\nAwards \n  \n 
URL:https://sicklecellfoundation.org/event/2024-annual-5k-for-sickle-cell-anemia-and-tim-simpkins-one-mile-run-walk/
LOCATION:Jake Gaither Golf Course\, 801 Tanner Dr\, Tallahassee\, FL\, 32305\, United States
END:VEVENT
BEGIN:VEVENT
DTSTART;TZID=America/New_York:20240913T190000
DTEND;TZID=America/New_York:20240913T220000
DTSTAMP:20260423T193819
CREATED:20240903T003150Z
LAST-MODIFIED:20241121T213922Z
UID:6310-1726254000-1726264800@sicklecellfoundation.org
SUMMARY:Dinner & Awards Night Honoring "Distinguish Men of Service"
DESCRIPTION:This event aims to honor outstanding men in our seven-county coverage area (Leon\, Gadsden\, Jefferson\, Madison\, Taylor\, Jackson\, and Wakulla) who have made significant and positive impacts in their communities through their expertise and dedication. \nWe are delighted to invite you to our inaugural “Distinguished Men of Service”. We look forward to celebrating their accomplishments at our formal ceremony on Friday\, September 13\, 2024 at Delta Kappa Omega Providence Community Service Center\, 1908 Highland Street\, Tallahassee\, FL 32310 from 7:00PM – 10:00PM. \nThis fundraising event will allow the Sickle Cell Foundation\, Incorporated to help those living with sickle cell anemia lead their lives to the fullest extent possible\, free of restrictions and limitations caused by their sickle cell condition. In addition\, to raise the awareness and understanding of sickle cell disease as a health issue through professional standards of administration\, healthcare\, public relations\, and fundraising. \n  \n \n  \n \n \n \n \nhttps://sicklecellfoundation.org/wp-content/uploads/2024/09/SCF-Distinguished-Men-of-Service-Slide-Video-Collage.mp4\nView Video For More Information About Our 2024 Honorees”Distinguish Men of Service”
URL:https://sicklecellfoundation.org/event/dinner-awards-night-honoring-distinguish-men-of-service/
LOCATION:Delta Kappa Omega Providence Community Service Center\, 1908 Highland Street\, Tallahassee\, Florida\, United States
END:VEVENT
BEGIN:VEVENT
DTSTART;TZID=America/New_York:20240906T120000
DTEND;TZID=America/New_York:20240906T133000
DTSTAMP:20260423T193819
CREATED:20240903T002529Z
LAST-MODIFIED:20240903T002529Z
UID:6306-1725624000-1725629400@sicklecellfoundation.org
SUMMARY:Sickle Cell Awareness "Health Event" @ Tallahassee State College Student Union
DESCRIPTION:Sickle Cell Awareness Health Event in partnership with Tallahassee State College Student Union \nFREE EVENT \n 
URL:https://sicklecellfoundation.org/event/sickle-cell-awareness-health-event-tallahassee-state-college-student-union/
LOCATION:Tallahassee State College\, 444 Appleyard Dr\, Tallahassee\, FL\, United States
END:VEVENT
BEGIN:VEVENT
DTSTART;TZID=America/New_York:20240626T100000
DTEND;TZID=America/New_York:20240626T170000
DTSTAMP:20260423T193819
CREATED:20240506T163731Z
LAST-MODIFIED:20240506T163731Z
UID:6040-1719396000-1719421200@sicklecellfoundation.org
SUMMARY:Career Source Summer Camp students at North Florida College
DESCRIPTION:Career Source Summer Camp students at North Florida College on June 26th at 10:00am.
URL:https://sicklecellfoundation.org/event/career-source-summer-camp-students-at-north-florida-college/
LOCATION:FL
END:VEVENT
BEGIN:VEVENT
DTSTART;TZID=America/New_York:20240615T090000
DTEND;TZID=America/New_York:20240615T130000
DTSTAMP:20260423T193819
CREATED:20240417T154435Z
LAST-MODIFIED:20240605T203136Z
UID:6019-1718442000-1718456400@sicklecellfoundation.org
SUMMARY:2024 World Sickle Cell Day Event
DESCRIPTION:On June 15th\, we will celebrate World Sickle Cell Day.\nFREE community health event! Plan to attend an event in support of the global recognition of sickle cell disease as a significant hereditary condition and a public health issue.\nDistribution of Free Food\, Health Checks\, and Blood Drive.\nIf you wish to participate as a vendor (FREE)\, kindly visit the provided link to register.\nhttps://form.jotform.com/241074738026152
URL:https://sicklecellfoundation.org/event/2024-world-sickle-cell-day-event/
LOCATION:2525 S. Monroe. Street Tallahassee\, Florida
END:VEVENT
BEGIN:VEVENT
DTSTART;TZID=America/New_York:20240602T180000
DTEND;TZID=America/New_York:20240602T200000
DTSTAMP:20260423T193819
CREATED:20240509T184704Z
LAST-MODIFIED:20240509T184704Z
UID:6062-1717351200-1717358400@sicklecellfoundation.org
SUMMARY:Bowilng For Sickle Cell Presented by The Beta Lambda Sigma Chapter of Phi Beta Sigma Fraternity Inc.
DESCRIPTION:Presented by the Beta Lambda Sigma Chapter of Phi Beta Sigma Fraternity\, Inc.\nJoin us for a fun-filled evening of fellowship and fundraising for Sickle Cell Disease and Sickle Cell Trait.\n 
URL:https://sicklecellfoundation.org/event/bowilng-for-sickle-cell-presented-by-the-beta-lambda-sigma-chapter-of-phi-beta-sigma-fraternity-inc/
LOCATION:FL
END:VEVENT
BEGIN:VEVENT
DTSTART;TZID=America/New_York:20240528T173000
DTEND;TZID=America/New_York:20240528T183000
DTSTAMP:20260423T193819
CREATED:20240506T163612Z
LAST-MODIFIED:20240506T163612Z
UID:6036-1716917400-1716921000@sicklecellfoundation.org
SUMMARY:Peer Support Group
DESCRIPTION:Peer Support Group– Last Tuesday of the month \n5:30PM TO 6:30PM \nB.L. Perry Branch Library \n2817 S Adams St\, Tallahassee\, FL 32301
URL:https://sicklecellfoundation.org/event/peer-support-group/
LOCATION:FL
END:VEVENT
BEGIN:VEVENT
DTSTART;TZID=America/New_York:20240520T130000
DTEND;TZID=America/New_York:20240520T180000
DTSTAMP:20260423T193819
CREATED:20240506T163448Z
LAST-MODIFIED:20240506T163629Z
UID:6034-1716210000-1716228000@sicklecellfoundation.org
SUMMARY: Celebration
DESCRIPTION: Celebration \n1:00 P.M. until 6 P.M. \nat the Jefferson County Recreation Park\n1380 Mamie Scott Drive\nMonticello FL 32344
URL:https://sicklecellfoundation.org/event/6034/
LOCATION:FL
END:VEVENT
BEGIN:VEVENT
DTSTART;TZID=America/New_York:20240516T140000
DTEND;TZID=America/New_York:20240516T160000
DTSTAMP:20260423T193819
CREATED:20240506T163306Z
LAST-MODIFIED:20240506T163646Z
UID:6032-1715868000-1715875200@sicklecellfoundation.org
SUMMARY:Stroke Awareness Event
DESCRIPTION:Stroke Awareness event  \n  \nJefferson County  – May 16th \n2:00p.m. to 4:00p.m. \nLocation will be at the Jefferson Arms Apartments\n1425 E. Clark Avenue\, Monticello\, FL 32344
URL:https://sicklecellfoundation.org/event/6032/
LOCATION:FL
END:VEVENT
BEGIN:VEVENT
DTSTART;TZID=America/New_York:20240427T090000
DTEND;TZID=America/New_York:20240427T180000
DTSTAMP:20260423T193819
CREATED:20240125T194142Z
LAST-MODIFIED:20240405T000359Z
UID:5875-1714208400-1714240800@sicklecellfoundation.org
SUMMARY:The Sickle Cell Disease Educational Conference "Back To The Basics"
DESCRIPTION:  \n  \n 
URL:https://sicklecellfoundation.org/event/the-sickle-cell-disease-educational-conference-back-to-the-basics/
LOCATION:415 North Monroe Street\, Tallahassee\, FL\, US\, 415 North Monroe Street\, Tallahassee\, Florida\, 32303
END:VEVENT
BEGIN:VEVENT
DTSTART;TZID=America/New_York:20240420T090000
DTEND;TZID=America/New_York:20240420T130000
DTSTAMP:20260423T193819
CREATED:20240405T002323Z
LAST-MODIFIED:20240405T002323Z
UID:5963-1713603600-1713618000@sicklecellfoundation.org
SUMMARY:April 20th - Jack McClean Community Event
DESCRIPTION:
URL:https://sicklecellfoundation.org/event/april-20th-jack-mcclean-community-event/
LOCATION:Jack McLean Community Center\, 700 Paul Russell Road\, Tallahassee\, FL\, 32301\, United States
END:VEVENT
BEGIN:VEVENT
DTSTART;TZID=America/New_York:20240420T083000
DTEND;TZID=America/New_York:20240420T140000
DTSTAMP:20260423T193819
CREATED:20240405T002141Z
LAST-MODIFIED:20240405T002141Z
UID:5961-1713601800-1713621600@sicklecellfoundation.org
SUMMARY:April 20th - Gadsden County Health Event
DESCRIPTION:
URL:https://sicklecellfoundation.org/event/april-20th-gadsden-county-health-event/
LOCATION:FL
END:VEVENT
BEGIN:VEVENT
DTSTART;TZID=America/New_York:20240413T100000
DTEND;TZID=America/New_York:20240413T130000
DTSTAMP:20260423T193819
CREATED:20240405T002042Z
LAST-MODIFIED:20240405T002042Z
UID:5958-1713002400-1713013200@sicklecellfoundation.org
SUMMARY:April 13th - Big Bend AHEC Minority Health Event
DESCRIPTION:
URL:https://sicklecellfoundation.org/event/april-13th-big-bend-ahec-minority-health-event/
LOCATION:FL
END:VEVENT
BEGIN:VEVENT
DTSTART;TZID=America/New_York:20240412T120000
DTEND;TZID=America/New_York:20240412T150000
DTSTAMP:20260423T193819
CREATED:20240405T001922Z
LAST-MODIFIED:20240405T001922Z
UID:5956-1712923200-1712934000@sicklecellfoundation.org
SUMMARY:April 12th FAMU Relay For Life
DESCRIPTION:
URL:https://sicklecellfoundation.org/event/april-12th-famu-relay-for-life/
LOCATION:FAMU
END:VEVENT
BEGIN:VEVENT
DTSTART;TZID=America/New_York:20240406T113000
DTEND;TZID=America/New_York:20240406T160000
DTSTAMP:20260423T193819
CREATED:20240405T001759Z
LAST-MODIFIED:20240405T001759Z
UID:5953-1712403000-1712419200@sicklecellfoundation.org
SUMMARY:April 6th - FSU Tallahassee\, Florida
DESCRIPTION:
URL:https://sicklecellfoundation.org/event/april-6th-fsu-tallahassee-florida/
LOCATION:FL
END:VEVENT
BEGIN:VEVENT
DTSTART;TZID=America/New_York:20240406T100000
DTEND;TZID=America/New_York:20240406T140000
DTSTAMP:20260423T193819
CREATED:20240405T001634Z
LAST-MODIFIED:20240405T001634Z
UID:5950-1712397600-1712412000@sicklecellfoundation.org
SUMMARY:April 6th - Madison County
DESCRIPTION:
URL:https://sicklecellfoundation.org/event/april-6th-madison-county/
LOCATION:Madison County
END:VEVENT
BEGIN:VEVENT
DTSTART;TZID=America/New_York:20240405T160000
DTEND;TZID=America/New_York:20240405T180000
DTSTAMP:20260423T193819
CREATED:20240405T001511Z
LAST-MODIFIED:20240405T001511Z
UID:5946-1712332800-1712340000@sicklecellfoundation.org
SUMMARY:April 7th - FAMU BLOOD DRIVE
DESCRIPTION:
URL:https://sicklecellfoundation.org/event/april-7th-famu-blood-drive/
LOCATION:FAMU
END:VEVENT
BEGIN:VEVENT
DTSTART;TZID=America/New_York:20230909T150000
DTEND;TZID=America/New_York:20230909T150000
DTSTAMP:20260423T193819
CREATED:20230905T173256Z
LAST-MODIFIED:20230905T173256Z
UID:5856-1694271600-1694271600@sicklecellfoundation.org
SUMMARY:42nd Annual 5k Run for Sickle Cell Anemia and Tim Simpkin's One Mile
DESCRIPTION:Participate in the Gulf Winds Track Club’s collaboration with the Sickle Cell Foundation\, Inc.\nThe Tim Simpkins 1 Mile and the 42nd annual 5k for Sickle Cell Anemia.\nParticipants have an excellent opportunity to run personal bests on the quick course through Jake Gaither Neighborhood. This race has a large and enthusiastic volunteer base.\nTo assist families affected by sickle cell disease\, the race’s proceeds are donated to the Sickle Cell Foundation\, Inc.\nTo take part in this event\, please sign up. If you cannot participate\, you can still donate to support other families in the sickle cell community.\n\n\nSchedule · Saturday\, September 9\, 2023 (in EDT)\n\n\n7:00 AM\nRegistration and race-day packet pick-up\n8:00 AM\nOne-mile fun run\n8:30 AM\n5K race\n9:30 AM\nAwards
URL:https://sicklecellfoundation.org/event/42nd-annual-5k-run-for-sickle-cell-anemia-and-tim-simpkins-one-mile/
LOCATION:FL
END:VEVENT
BEGIN:VEVENT
DTSTART;TZID=America/New_York:20230415T100000
DTEND;TZID=America/New_York:20230415T140000
DTSTAMP:20260423T193819
CREATED:20230404T004514Z
LAST-MODIFIED:20230404T004541Z
UID:5654-1681552800-1681567200@sicklecellfoundation.org
SUMMARY:Apr 15\, 2023 Minority Health Health Quincy\, Florida
DESCRIPTION:  \n\n 
URL:https://sicklecellfoundation.org/event/apr-15-2023-minority-health-health-quincy-florida/
LOCATION:Quincy Courthouse Square\, 10 E Jefferson St\, Quincy\, Florida\, 32351
ORGANIZER;CN="Sickle Cell Foundation%2C Inc.":MAILTO:info@sicklecellfoundation.org
END:VEVENT
BEGIN:VEVENT
DTSTART;TZID=America/New_York:20230407T100000
DTEND;TZID=America/New_York:20230407T150000
DTSTAMP:20260423T193819
CREATED:20230404T003954Z
LAST-MODIFIED:20230404T004722Z
UID:5649-1680861600-1680879600@sicklecellfoundation.org
SUMMARY:Apr 7\, 2023 Minority Health Event @ Florida A & M Set Friday
DESCRIPTION:H. Manning Efferson Student Union\, FAMU
URL:https://sicklecellfoundation.org/event/apr-7-2023-minority-health-event-florida-a-m-set-friday/
LOCATION:Florida A & M University\, 1628 South Martin Luther King Junior Blvd.\, Tallahassee\, Florida\, 32307\, United States
ORGANIZER;CN="Sickle Cell Foundation%2C Inc.":MAILTO:info@sicklecellfoundation.org
END:VEVENT
BEGIN:VEVENT
DTSTART;TZID=America/New_York:20230405T100000
DTEND;TZID=America/New_York:20230405T140000
DTSTAMP:20260423T193819
CREATED:20230404T002440Z
LAST-MODIFIED:20230404T004105Z
UID:5643-1680688800-1680703200@sicklecellfoundation.org
SUMMARY:Apr 5\, 2023 Minority Health Event @ Florida State University -Market Wednesday
DESCRIPTION:75 N. Woodward Ave. Florida State University Tallahassee\, FL
URL:https://sicklecellfoundation.org/event/apr-5-2023-minority-health-event-florida-state-university-market-wednesday/
LOCATION:Florida State University
END:VEVENT
BEGIN:VEVENT
DTSTART;TZID=America/New_York:20230202T190000
DTEND;TZID=America/New_York:20230202T200000
DTSTAMP:20260423T193819
CREATED:20230126T185919Z
LAST-MODIFIED:20230126T190222Z
UID:5357-1675364400-1675368000@sicklecellfoundation.org
SUMMARY:SCF Presents “OXBRYTA & CLINICAL TRIALS” Online Conference
DESCRIPTION:SCF Presents “OXBRYTA & CLINICAL TRIALS” Online Conference \nJoin our speaker Dr. Ivy-Davis discuss her serving as the passionate\, experienced Senior Medical Science Liaison\, specializing in Sickle Cell Disease\, for Global Blood Therapeutics US. Some of her duties in her current role include functioning as a key clinical and scientific resource to Key Opinion Leaders in Sickle Cell Disease and identifying potential new clinical trial sites and trial investigators in a territory. She also provided medical assistance for the US launch of Oxbryta and ensured an accurate understanding of the Oxbryta profile. Dr. Ivy-Davis has served as MSL-Lead for 601 Molecular studies. \nRegistration Link: https://form.jotform.com/230255086904152
URL:https://sicklecellfoundation.org/event/5357/
LOCATION:Virtual Zoom Meeting
CATEGORIES:Sickle Cell Foundation
ORGANIZER;CN="Sickle Cell Foundation%2C Inc.":MAILTO:info@sicklecellfoundation.org
END:VEVENT
BEGIN:VEVENT
DTSTART;TZID=America/New_York:20221022T090000
DTEND;TZID=America/New_York:20221022T173000
DTSTAMP:20260423T193819
CREATED:20220914T183926Z
LAST-MODIFIED:20220914T221818Z
UID:5317-1666429200-1666459800@sicklecellfoundation.org
SUMMARY:Sickle Cell Disease: Expanding Research\, Education & Service
DESCRIPTION:Purpose: \nTo provide current information on the treatment of and care of patients with Sickle Cell Disease. \nCourse Objectives\nAt the end of the workshop\, each participant will be able to:\n1. Discuss\, analyze\, and demonstrate methodology used in research\, education and delivery of care to the sickle cell population\n2. Examine organizational provision of education\nand service on Sickle Cell Disease\n3. Analyze efforts of service to patients with\nsickle cell disease\, in the church and school\n4. Discuss one method of health coverage of\npatients with Sickle Cell Disease \nRegister
URL:https://sicklecellfoundation.org/event/sickle-cell-disease-expanding-research-education-service/
LOCATION:Hotel Duval\, 415 N. Monroe Street\, Tallahassee\, FL\, 32301\, United States
CATEGORIES:Sickle Cell Foundation
ORGANIZER;CN="Sickle Cell Foundation":MAILTO:info@sicklecellfoundation.org
END:VEVENT
BEGIN:VEVENT
DTSTART;TZID=America/New_York:20211105T090000
DTEND;TZID=America/New_York:20211105T170000
DTSTAMP:20260423T193819
CREATED:20211014T225358Z
LAST-MODIFIED:20211014T230704Z
UID:5299-1636102800-1636131600@sicklecellfoundation.org
SUMMARY:Sickle Cell Disease: Innovation & Updates
DESCRIPTION:Purpose: \nTo provide current information on the treatment of and care of patients with Sickle Cell Disease. \nCourse Objectives\nAt the end of the workshop\, each participant will be able to: \n1. Discuss\, analyze\, and demonstrate methodology used in research\, education and delivery of care to the sickle cell population. \n2. Evaluate\, the use of a conceptual model\, specific treatments\, coping strategies\, community involvement\, and special programs addressing cures for sickle cell disease. \nRegister
URL:https://sicklecellfoundation.org/event/sickle-cell-disease-innovation-updates/
LOCATION:FL
CATEGORIES:Sickle Cell Foundation
ORGANIZER;CN="Sickle Cell Foundation":MAILTO:info@sicklecellfoundation.org
END:VEVENT
BEGIN:VEVENT
DTSTART;VALUE=DATE:20200901
DTEND;VALUE=DATE:20201001
DTSTAMP:20260423T193819
CREATED:20200914T172106Z
LAST-MODIFIED:20200914T172106Z
UID:5006-1598918400-1601510399@sicklecellfoundation.org
SUMMARY:39th Annual 5K Run/Walk - Virtual
DESCRIPTION:
URL:https://sicklecellfoundation.org/event/39th-annual-5k-run-walk-virtual/
LOCATION:FL
END:VEVENT
BEGIN:VEVENT
DTSTART;TZID=America/New_York:20191011T090000
DTEND;TZID=America/New_York:20191012T170000
DTSTAMP:20260423T193819
CREATED:20190917T143837Z
LAST-MODIFIED:20190917T144255Z
UID:4789-1570784400-1570899600@sicklecellfoundation.org
SUMMARY:Sickle Cell Disease: Approach to Delivery of Care in the 21st Century
DESCRIPTION:CLICK HERE REGISTER\n  \nPurpose: To provide information on current approaches to management of patients with Sickle Cell Disease. \nCOURSE OBJECTIVES: \nAt the end of the workshop\, each participant will be able to: \n\nDiscuss and analyze different approaches to delievey of care to patients with Sickle Cell Disease\nEvaluate new research related to rtreatment and management in patients with Sickle Cell Disease\nExamine the relationships among pain\, psychology\, community and culture\, related to the approach to caare of patients with Sickle Cell Disease.
URL:https://sicklecellfoundation.org/event/sickle-cell-disease-approach-to-delivery-of-care-in-the-21st-century/
LOCATION:Four Points by Sheraton at Tallahassee\, 316 W. Tennessee Street\, Tallahassee\, FL\, 32301\, United States
END:VEVENT
BEGIN:VEVENT
DTSTART;TZID=America/New_York:20190914T060000
DTEND;TZID=America/New_York:20190914T130000
DTSTAMP:20260423T193819
CREATED:20190604T190924Z
LAST-MODIFIED:20190604T191118Z
UID:4699-1568440800-1568466000@sicklecellfoundation.org
SUMMARY:38th Annual Run/Walk for Sickle Cell Anemia
DESCRIPTION:CLICK HERE TO REGISTER
URL:https://sicklecellfoundation.org/event/38run-walk/
LOCATION:Jake Gaither Golf Course\, 801 Tanner Dr\, Tallahassee\, FL\, 32305\, United States
ATTACH;FMTTYPE=image/jpeg:https://sicklecellfoundation.org/wp-content/uploads/2014/08/SickleCell2019-Slider.jpg
END:VEVENT
BEGIN:VEVENT
DTSTART;TZID=America/New_York:20190713T170000
DTEND;TZID=America/New_York:20190713T200000
DTSTAMP:20260423T193819
CREATED:20190617T180212Z
LAST-MODIFIED:20190617T180212Z
UID:4727-1563037200-1563048000@sicklecellfoundation.org
SUMMARY:Sickle Cell in the Park 2019
DESCRIPTION:  \n  \n \nThe Sickle Cell Foundation\, INC. Presents: \nThe 4th Annual \n“Sickle Cell in the Park” \nThis year’s Sickle Cell in the Park Health Fair will focus on the importance of blood donations. “African Americans Hold a Unique Power to Save Lives.” Individuals with Sickle Cell Disease utilize blood transfusions to slow the harmful\, and in many cases deadly\, effects of a sickle cell crisis. However\, the problem is all too often it is very difficult to locate blood that matches individuals with sickle cell disease due to the extremely limited supply of African American and other minority blood donors. \nHere is the paradox that the sickle cell community faces: The majority of sickle cell patients are African American and rely on genetically similar Blood Transfusions for treatment. However\, African Americans are not regular blood donors and represent the smallest pool of blood donors in America.  Sickle cell disease is a rare condition that impacts the red blood cells causing the blood cells to die more quickly than healthy red blood cells. This dramatically reduces the amount of oxygen in the body leading to fatigue\, strokes\, chronic pain\, and a whole host of mild\, severe\, life threatening and LIFE LONG issues. Sickle cell disease primarily\, and disproportionately\, affects African Americans in the United States. One of the primary ways to treat individuals in a sickle cell crisis is with a blood transfusion. When a sickle cell patient experiences a Sickle Cell Crisis or if their red blood cell count drops to a dangerous level they are given blood transfusions. Blood transfusions are more effective when the blood donor is genetically similar to the blood recipient. With minorities and African Americans being among the lowest donor pools in our country\, it is very difficult for sickle cell patients to be transfused with genetically similar blood resulting in transfusions where only the blood type matches. After years of being transfused with blood that is not genetically can lead to anti-body development and many other issues that can be life threatening. \n\nThat’s why this year’s focus at Sickle Cell in the Park will be blood donations with OneBlood and the Big Red Bus! JOIN US TO HELP SAVE LIVES!! By donating blood you will not only be saving the life of an individual with sickle cell disease but the lives of many others that rely on a blood transfusion during a very difficult time in their lives! \nOn July 13\, 2019 from 5:00 pm to 8:00 pm JOIN US at Cascade Park in the Capital City Amphitheater for FREE FOOD\, DRINKS\, FREE HEALTH SCREENINGS\, LOCAL HEALTH VENDORS\, MUSIC and MUCH MORE! \n\nFor more information regarding genetics in blood and blood donations\, check out the links below. \n⇒Watch Lia’s story on blood donation and sickle cell disease here.⇐\n⇒Read the New York Times article “The Intersection of Race and Blood”.⇐\n \nIf you have any questions\, if would like to set up a table\, or if you would like to volunteer call the Sickle Cell Foundation\, Inc. at (850) 222-2355.
URL:https://sicklecellfoundation.org/event/sickle-cell-in-the-park-2019/
LOCATION:Capital City amphitheater @ Cascade Park\, 1001 S. Gadsden St.\, Tallahassee\, FL\, 32301\, United States
ATTACH;FMTTYPE=image/jpeg:https://sicklecellfoundation.org/wp-content/uploads/2019/06/SCitP-2019-FlyerJPG.jpg
END:VEVENT
BEGIN:VEVENT
DTSTART;TZID=America/New_York:20190608T190000
DTEND;TZID=America/New_York:20190608T233000
DTSTAMP:20260423T193819
CREATED:20190326T174028Z
LAST-MODIFIED:20190326T174028Z
UID:4655-1560020400-1560036600@sicklecellfoundation.org
SUMMARY:2019 CRESCENT MOON GALA!
DESCRIPTION:THE CRESCENT MOON GALA \nJUNE 8\, 2019 \n7:00 PM \n \nGeneral Admission Tickets: $50.00 \nTables: $1000.00 \nTickets will go on sale mid-April 2019. \nBe on the look out at The Moon Box Office! \nThank You! \n \n  \n \n 
URL:https://sicklecellfoundation.org/event/2019-crescent-moon-gala/
LOCATION:The Moon\, 1105 East Lafayette St.\, Tallahassee\, FL\, 32301\, United States
ATTACH;FMTTYPE=image/jpeg:https://sicklecellfoundation.org/wp-content/uploads/2019/03/Gala-2019.jpg
END:VEVENT
BEGIN:VEVENT
DTSTART;TZID=America/New_York:20181102T090000
DTEND;TZID=America/New_York:20181103T170000
DTSTAMP:20260423T193819
CREATED:20180828T165647Z
LAST-MODIFIED:20180828T170937Z
UID:4544-1541149200-1541264400@sicklecellfoundation.org
SUMMARY:Sickle Cell Disease: Research\, Education and Practice
DESCRIPTION:CLICK HERE TO REGISTER\n \nPurpose: To provide current information on the treatment of and care of patients with Sickle Cell Disease \nAt the end of the workshop\, each participant will be able to : \n\nDiscuss\, analyze\, and demonstrate methodology used in research\, literacy\, screening and outreach programs for the delivery of care to patients with Sickle Cell Disease.\nEvaluate\, programs of counseling\, psychological aspects\, care in foreign countries\, families with sickle cell children and the role of nursing in the provision of care to the population
URL:https://sicklecellfoundation.org/event/sickle-cell-disease-research-education-and-practice/
LOCATION:Four Points by Sheraton at Tallahassee\, 316 W. Tennessee Street\, Tallahassee\, FL\, 32301\, United States
END:VEVENT
END:VCALENDAR