BEGIN:VCALENDAR
VERSION:2.0
PRODID:-//Sickle Cell Foundation, Inc. - ECPv6.13.2.1//NONSGML v1.0//EN
CALSCALE:GREGORIAN
METHOD:PUBLISH
X-WR-CALNAME:Sickle Cell Foundation, Inc.
X-ORIGINAL-URL:https://sicklecellfoundation.org
X-WR-CALDESC:Events for Sickle Cell Foundation, Inc.
REFRESH-INTERVAL;VALUE=DURATION:PT1H
X-Robots-Tag:noindex
X-PUBLISHED-TTL:PT1H
BEGIN:VTIMEZONE
TZID:America/New_York
BEGIN:DAYLIGHT
TZOFFSETFROM:-0500
TZOFFSETTO:-0400
TZNAME:EDT
DTSTART:20210314T070000
END:DAYLIGHT
BEGIN:STANDARD
TZOFFSETFROM:-0400
TZOFFSETTO:-0500
TZNAME:EST
DTSTART:20211107T060000
END:STANDARD
BEGIN:DAYLIGHT
TZOFFSETFROM:-0500
TZOFFSETTO:-0400
TZNAME:EDT
DTSTART:20220313T070000
END:DAYLIGHT
BEGIN:STANDARD
TZOFFSETFROM:-0400
TZOFFSETTO:-0500
TZNAME:EST
DTSTART:20221106T060000
END:STANDARD
BEGIN:DAYLIGHT
TZOFFSETFROM:-0500
TZOFFSETTO:-0400
TZNAME:EDT
DTSTART:20230312T070000
END:DAYLIGHT
BEGIN:STANDARD
TZOFFSETFROM:-0400
TZOFFSETTO:-0500
TZNAME:EST
DTSTART:20231105T060000
END:STANDARD
END:VTIMEZONE
BEGIN:VEVENT
DTSTART;TZID=America/New_York:20230202T190000
DTEND;TZID=America/New_York:20230202T200000
DTSTAMP:20260424T000056
CREATED:20230126T185919Z
LAST-MODIFIED:20230126T190222Z
UID:5357-1675364400-1675368000@sicklecellfoundation.org
SUMMARY:SCF Presents “OXBRYTA & CLINICAL TRIALS” Online Conference
DESCRIPTION:SCF Presents “OXBRYTA & CLINICAL TRIALS” Online Conference \nJoin our speaker Dr. Ivy-Davis discuss her serving as the passionate\, experienced Senior Medical Science Liaison\, specializing in Sickle Cell Disease\, for Global Blood Therapeutics US. Some of her duties in her current role include functioning as a key clinical and scientific resource to Key Opinion Leaders in Sickle Cell Disease and identifying potential new clinical trial sites and trial investigators in a territory. She also provided medical assistance for the US launch of Oxbryta and ensured an accurate understanding of the Oxbryta profile. Dr. Ivy-Davis has served as MSL-Lead for 601 Molecular studies. \nRegistration Link: https://form.jotform.com/230255086904152
URL:https://sicklecellfoundation.org/event/5357/
LOCATION:Virtual Zoom Meeting
CATEGORIES:Sickle Cell Foundation
ORGANIZER;CN="Sickle Cell Foundation%2C Inc.":MAILTO:info@sicklecellfoundation.org
END:VEVENT
BEGIN:VEVENT
DTSTART;TZID=America/New_York:20221022T090000
DTEND;TZID=America/New_York:20221022T173000
DTSTAMP:20260424T000056
CREATED:20220914T183926Z
LAST-MODIFIED:20220914T221818Z
UID:5317-1666429200-1666459800@sicklecellfoundation.org
SUMMARY:Sickle Cell Disease: Expanding Research\, Education & Service
DESCRIPTION:Purpose: \nTo provide current information on the treatment of and care of patients with Sickle Cell Disease. \nCourse Objectives\nAt the end of the workshop\, each participant will be able to:\n1. Discuss\, analyze\, and demonstrate methodology used in research\, education and delivery of care to the sickle cell population\n2. Examine organizational provision of education\nand service on Sickle Cell Disease\n3. Analyze efforts of service to patients with\nsickle cell disease\, in the church and school\n4. Discuss one method of health coverage of\npatients with Sickle Cell Disease \nRegister
URL:https://sicklecellfoundation.org/event/sickle-cell-disease-expanding-research-education-service/
LOCATION:Hotel Duval\, 415 N. Monroe Street\, Tallahassee\, FL\, 32301\, United States
CATEGORIES:Sickle Cell Foundation
ORGANIZER;CN="Sickle Cell Foundation":MAILTO:info@sicklecellfoundation.org
END:VEVENT
BEGIN:VEVENT
DTSTART;TZID=America/New_York:20211105T090000
DTEND;TZID=America/New_York:20211105T170000
DTSTAMP:20260424T000056
CREATED:20211014T225358Z
LAST-MODIFIED:20211014T230704Z
UID:5299-1636102800-1636131600@sicklecellfoundation.org
SUMMARY:Sickle Cell Disease: Innovation & Updates
DESCRIPTION:Purpose: \nTo provide current information on the treatment of and care of patients with Sickle Cell Disease. \nCourse Objectives\nAt the end of the workshop\, each participant will be able to: \n1. Discuss\, analyze\, and demonstrate methodology used in research\, education and delivery of care to the sickle cell population. \n2. Evaluate\, the use of a conceptual model\, specific treatments\, coping strategies\, community involvement\, and special programs addressing cures for sickle cell disease. \nRegister
URL:https://sicklecellfoundation.org/event/sickle-cell-disease-innovation-updates/
CATEGORIES:Sickle Cell Foundation
ORGANIZER;CN="Sickle Cell Foundation":MAILTO:info@sicklecellfoundation.org
END:VEVENT
END:VCALENDAR